BEGIN:VCALENDAR
VERSION:2.0
PRODID:-//wp-events-plugin.com//7.2.3.1//EN
BEGIN:VEVENT
UID:5536@lagueulenoire.org
DTSTART:20150307T120000Z
DTEND:20150307T150000Z
DTSTAMP:20150301T175934Z
URL:https://www.lagueulenoire.org/events/repas-de-soutien/
SUMMARY:Repas de soutien
DESCRIPTION:SAMEDI 07 MARS\n\nà partir de midi à la Gueule Noire\n\nRepas
  tchétchène\nAu menu : « Galouchkis tchétchènes avec de l’amour » 
 et autres mets...\n(plats végétariens et non-végétariens)\n\nPrix libr
 e\n(+ adhésion prix libre à la Gueule Noire)\n\nLes bénéfices alimente
 ront une caisse de solidarité pour la défense\njuridique de réquisition
 s de logements.\n\nPensez à réserver par SMS au 06 34 50 49 36\n\n
CATEGORIES:En Avant,Repas
END:VEVENT
END:VCALENDAR