BEGIN:VCALENDAR
VERSION:2.0
PRODID:-//wp-events-plugin.com//7.2.3.1//EN
BEGIN:VEVENT
UID:6344@lagueulenoire.org
DTSTART:20181102T203000Z
DTEND:20181103T020000Z
DTSTAMP:20181009T035923Z
URL:https://www.lagueulenoire.org/events/release-party/
SUMMARY:RELEASE PARTY
DESCRIPTION:VEN 02 NOVEMBRE :\nA l'occasion de la sortie du 45 tours de 10 
 Minutes Later\n\nConcert avec\n\n10 MINUTES LATER (punk hardcore / 42)\n\n
 LE RÉPARATEUR (punk-rock / 26)\n\nRATEL (punk vorace / 42)\n\nTHE RUSTRES
  (road punk / 42)\n\n20h / $5 ou $8 avec le disque\n\n
CATEGORIES:Concert,En Avant
END:VEVENT
END:VCALENDAR