BEGIN:VCALENDAR
VERSION:2.0
PRODID:-//wp-events-plugin.com//7.2.3.1//EN
BEGIN:VEVENT
UID:5545@lagueulenoire.org
DTSTART:20150620T120000Z
DTEND:20150620T150000Z
DTSTAMP:20150527T130255Z
URL:https://www.lagueulenoire.org/events/ptit-resto-de-la-gueule-noire/
SUMMARY:P'TIT RESTO DE LA GUEULE NOIRE
DESCRIPTION:&nbsp\;\n\nSAM 20 JUIN : 12H00\n\n&nbsp\;
CATEGORIES:En Avant,Repas
END:VEVENT
END:VCALENDAR