BEGIN:VCALENDAR
VERSION:2.0
PRODID:-//wp-events-plugin.com//7.2.3.1//EN
BEGIN:VEVENT
UID:5553@lagueulenoire.org
DTSTART:20150912T200000Z
DTEND:20150913T010000Z
DTSTAMP:20150825T111731Z
URL:https://www.lagueulenoire.org/events/projection-et-discussion/
SUMMARY:Projection et Discussion
DESCRIPTION:Samedi 12 Septembre / 20h00\nEntrée Libre / Adhésion 2015-201
 6 Prix Libre\n\nProjection de "Caminando Hacia la Autonomia" en présence 
 des réalisateurs/trices\n\nFilm documentaire collectif dans une communaut
 é mexicaine qui s'appelle Cherán et qui s'autogouverne sans police ni pa
 rtis politiques depuis plus de 4 ans maintenant.\n\nCherán K'eri est une 
 communauté du Mexique\, victime des narcotrafiquants qui terrorisent la p
 opulation et détruisent la foret.\nLe 15 avril 2011\, un groupe de femmes
  – ensuite rejoint par l'ensemble de la communauté – s'est rebellé p
 our mettre un terme à cette situation.\n \n
CATEGORIES:Conférence / Débat,En Avant
END:VEVENT
END:VCALENDAR