BEGIN:VCALENDAR
VERSION:2.0
PRODID:-//wp-events-plugin.com//7.2.3.1//EN
BEGIN:VEVENT
UID:6568@lagueulenoire.org
DTSTART:20190307T000000Z
DTEND:20190310T235900Z
DTSTAMP:20190224T163041Z
URL:https://www.lagueulenoire.org/events/pour-un-8-mars-2019-feministe-et-
 anticapitaliste/
SUMMARY:Pour un 8 mars 2019 féministe et anticapitaliste !
DESCRIPTION:JEU 07 / VEN 08 / DIM 10 MARS :\n\n\nDu 6 au 10 Mars a lieu la 
 deuxième édition du festival « Un poil dans la soupe » organisée pa
 r les Sampianes\, autour du 8 mars : Journée internationale des luttes 
 des femmes. Cette année on vous propose des activités féministes varié
 es dans différents lieux de Sainté pour se rencontrer\, échanger\, appr
 endre\, se renforcer\, créer des solidarités et se marrer.\n\n\nA la Gue
 ule Noire aura lieu:\n\n\n▶ Jeudi 7 Mars ◀\n\n17h30 Atelier d’autod
 éfense féministe*\nPour se renforcer au niveau individuel et collectif a
 vec différentes techniques et stratégies d’autodéfense\, verbale et p
 hysique. Tenue confortable\, aucune condition physique particulière n’e
 st requise. Tous les corps sont bienvenus.\n\n\n\n19h30 Lecture collective
 *\nArpentage et échanges autour du livre « Se défendre : une philosop
 hie de la violence » d’Elsa Dorlin. Bouffe partagée !\n▶ Vendredi 
 8 Mars ◀\n\n\n20h30 Maxi Fiesta au Poil ! \nMISS ANDRY (pink-witch-fis
 t-mood-rap / Sainté)\n\nHOLY G (rap / Sainté)\nhttps://soundcloud.com/of
 ficielgise...\n\nMOULAX (électropopunk / Marseille) \nhttps://moulax.band
 camp.com/releases\n\nZE REVENGERS (postpunk / SaintéGrenoble)\nhttp://rev
 engers.eklablog.com/musiq...\n\nDJ Pom &amp\; Lady Pizza (boooom / Sainté
 )\n\nMiam miam à prix libre\n\n\n \n▶ Dimanche 10 Mars ◀\n\n\n12h R
 estouf’* \n\nPréparation collective d’un repas féministe (pour celle
 s qui veulent participer à la préparation\, venir entre 9h et 10h). Rest
 o vegan (sans produits issus de l’exploitation animale) à prix libre\, 
 avec table de presse et scène ouverte : lectures à voix hautes spontan
 ées (ou préparées ?)\, bœuf musical\, etc. Apportez vos idées et vos
  envies pour partager et animer le repas : instruments de musique\, texte
 s\, jeux\, …Clôture de festoch !\n\nOuverture des portes à midi.\n\n&
 gt\; *Ces activités sont en mixité choisie : meufs-gouines-trans*.\n&gt
 \; Toutes les activités sont à prix libre + adhésion Gueule Noire.\n\n\
 n\n\n\nPour nous contacter ou avoir plus d’info :\n• sampianes@riseup
 .net\n• Fb : https://www.facebook.com/Sampianes/\n\n(Si vous avez envie
  de filer un coup de main pour l’orga\, en mixité choisie meufs-gouines
 -trans’\, hésitez pas à nous contacter !!!)\n\n\n\n\n&nbsp\;
CATEGORIES:Atelier,Boum,Concert,En Avant
END:VEVENT
END:VCALENDAR