BEGIN:VCALENDAR
VERSION:2.0
PRODID:-//wp-events-plugin.com//7.2.3.1//EN
BEGIN:VEVENT
UID:6743@lagueulenoire.org
DTSTART:20221210T120000Z
DTEND:20221210T140000Z
DTSTAMP:20221205T155115Z
URL:https://www.lagueulenoire.org/events/petit-resto-vegan-3/
SUMMARY:Petit resto vegan
DESCRIPTION:\nà Midi\, Petit Resto Vegan des Garagnas : menu spécial enfa
 nts\, cuisine ensemble le matin pour celleux qui veulent.\nPrix Libre\n\n
 à 14h : discussion autour d'expériences d'autogestion avec des enfants\,
  avec les collectifs d'éducation populaire Les 400 coups et Ménidori.\n\
 nEspace Enfants et Ciné Garagnas pendant la discussion.
CATEGORIES:Conférence / Débat,Repas
END:VEVENT
END:VCALENDAR