BEGIN:VCALENDAR
VERSION:2.0
PRODID:-//wp-events-plugin.com//7.2.3.1//EN
BEGIN:VEVENT
UID:6600@lagueulenoire.org
DTSTART:20191220T200000Z
DTEND:20191221T020000Z
DTSTAMP:20191126T143249Z
URL:https://www.lagueulenoire.org/events/lfp377-123441/
SUMMARY:LFP#377-1234!#41
DESCRIPTION:VEN 20 DÉCEMBRE :\nConcert La France Pue et 1234! avec :\n\nCH
 AIN CULT (post-punk\, Athènes\, Grèce)\n\nTOTAL REJECTS (hardcore punk\,
  Perm\, Russie)\n\nBLEAKNESS (post-punk\, Lyon)\n\nMARAUDEUR (post-punk\, 
 Lyon-Sainté)\n\n20h30 / $5 + adhésions. prix libre\n\nhttp://www.lafranc
 epue.org\n\n&nbsp\;\n\n
CATEGORIES:Concert,En Avant
END:VEVENT
END:VCALENDAR