BEGIN:VCALENDAR
VERSION:2.0
PRODID:-//wp-events-plugin.com//7.2.3.1//EN
BEGIN:VEVENT
UID:6563@lagueulenoire.org
DTSTART:20190126T180000Z
DTEND:20190127T020000Z
DTSTAMP:20190123T223729Z
URL:https://www.lagueulenoire.org/events/feminist-fight-club/
SUMMARY:FEMINIST FIGHT CLUB
DESCRIPTION:Sam 26 Janvier :\nVenez vous défouler ou apprécier le spectac
 le dans le FEMINIST FIGHT CLUB.\n\nUn atelier autour de la lutte sera anim
 é à 18h par Iron Dyke.\n\nOn pourra aussi se délecter des mets de Creve
 tte42.\n\nAprès le concert de Miss-Andry\, DJ PROLOPE enflammera le dance
 floor pour une boom digne d’un Feminist Fight Club.\n\nApportez votre te
 nue la plus pratique pour lutter mais ne lésinez\nsurtout pas sur la flam
 boyance pour éblouir vos adversaire ou la piste de danse !\n\nMixité cho
 isie gouines-trans-meufs.\nPrix libre\n\n
CATEGORIES:Boum,En Avant,Sport
END:VEVENT
END:VCALENDAR