BEGIN:VCALENDAR
VERSION:2.0
PRODID:-//wp-events-plugin.com//7.2.3.1//EN
BEGIN:VEVENT
UID:6867@lagueulenoire.org
DTSTART:20230512T203000Z
DTEND:20230513T010000Z
DTSTAMP:20230505T115014Z
URL:https://www.lagueulenoire.org/events/concerts-lfp-396/
SUMMARY:Concerts LFP #396
DESCRIPTION:\nIRREAL (hardcore punk / Barcelona\, Espagne)\n\nMAL D’AUROR
 E (anarcho punk / Ambert)\n\nTETE DE CERF (rap vénèr / Sainté)\n\nEsp
 ace Autogéré La Gueule Noire / 16\, rue du Mont / Saint-Etienne / 20h00 
 / $5-8
CATEGORIES:Concert
END:VEVENT
END:VCALENDAR