BEGIN:VCALENDAR
VERSION:2.0
PRODID:-//wp-events-plugin.com//7.2.3.1//EN
BEGIN:VEVENT
UID:6605@lagueulenoire.org
DTSTART:20200103T200000Z
DTEND:20200104T020000Z
DTSTAMP:20191218T223745Z
URL:https://www.lagueulenoire.org/events/concert-soutien-gueule-noire-7/
SUMMARY:Concert Soutien Gueule Noire
DESCRIPTION:VEN 03 JANVIER :\nAvec :\n\nLES PROFS DE SKIDS (Surf / Grenoble
 )\n\nLA CIE KTA (Contes Punks / Marseille)\n\nDIRTEEZ (Voodoo R'n'Roll / M
 arseille)\n\nHISTERESIS (Reprises Métal / 42)\n\n20h30 / $5 + adhésions.
  prix libre\n\n
CATEGORIES:Concert,En Avant
END:VEVENT
END:VCALENDAR