BEGIN:VCALENDAR
VERSION:2.0
PRODID:-//wp-events-plugin.com//7.2.3.1//EN
BEGIN:VEVENT
UID:7377@lagueulenoire.org
DTSTART:20240629T223000Z
DTEND:20240630T013000Z
DTSTAMP:20240622T095514Z
URL:https://www.lagueulenoire.org/events/concert-lfp406/
SUMMARY:Concert LFP#406
DESCRIPTION:\nSAM 29 JUIN :\n\nNIGHTFEEDER (hardcore punk / Seattle\, US)\n
 https://nightfeeder.bandcamp.com/album/disgust-r-ep\nBOMBARDEMENT (d-beat 
 punk / Bordeaux)\nhttps://bombardement.bandcamp.com\nHAIRISONG (grunge cor
 e / Sainté)\n\nEspace Autogéré La Gueule Noire / 16\, rue du Mont / Sai
 nt-Etienne / 20h30  / $5-8 + adhésion prix libre
CATEGORIES:Concert
END:VEVENT
END:VCALENDAR