BEGIN:VCALENDAR
VERSION:2.0
PRODID:-//wp-events-plugin.com//7.2.3.1//EN
BEGIN:VEVENT
UID:6583@lagueulenoire.org
DTSTART:20190823T203000Z
DTEND:20190824T020000Z
DTSTAMP:20190807T163250Z
URL:https://www.lagueulenoire.org/events/concert-la-france-pue-371/
SUMMARY:Concert La France Pue #371
DESCRIPTION:VENDREDI 23 AOUT :\nOCTOPOULPE (one man power violence / Corée
  du Sud)\n\nVLAAR (emo crust / Vosges)\n\nTÊTE DE CERF (hip hop / Sainté
 )\n\n20h30 / $5 + adhésion prix libre\n\nhttp://www.lafrancepue.org\n\n
CATEGORIES:Concert,En Avant
END:VEVENT
END:VCALENDAR