BEGIN:VCALENDAR
VERSION:2.0
PRODID:-//wp-events-plugin.com//7.2.3.1//EN
BEGIN:VEVENT
UID:6614@lagueulenoire.org
DTSTART:20200215T203000Z
DTEND:20200216T020000Z
DTSTAMP:20200128T114322Z
URL:https://www.lagueulenoire.org/events/concert-de-soutien-aux-grevistes-
 de-leducation/
SUMMARY:Concert de Soutien aux grévistes de l'Éducation
DESCRIPTION:SAM 15 FÉVRIER :\nTABAZUTE (fanfare)\n\nULTIMATUM (punk rock)\
 n\n10 MINUTES LATER (fast core)\n\nGROUPE SURPRISE (boom en live)\n\n20h30
  / Entrée et Adhésions Prix Libre\n
CATEGORIES:Concert,En Avant
END:VEVENT
END:VCALENDAR