BEGIN:VCALENDAR
VERSION:2.0
PRODID:-//wp-events-plugin.com//7.2.3.1//EN
BEGIN:VEVENT
UID:6597@lagueulenoire.org
DTSTART:20191109T200000Z
DTEND:20191110T020000Z
DTSTAMP:20191030T220347Z
URL:https://www.lagueulenoire.org/events/boom-demineurs/
SUMMARY:Boom Démineurs
DESCRIPTION:SAM 09 NOV :\nSalut les ami.e.s !\nDémineurs organise sa premi
 ère boum de la saison.\nOn se retrouve à la Gueule Noire pour une chouet
 te soirée\, avec une playlist participative (Merci Mam Kam) !\n\nComme d
 'habitude\, adhésion à la Gueule Noire et soirée à prix libre.\n\nA tr
 ès vite !\n\n
CATEGORIES:Boum,En Avant
END:VEVENT
END:VCALENDAR