BEGIN:VCALENDAR
VERSION:2.0
PRODID:-//wp-events-plugin.com//7.2.3.1//EN
BEGIN:VEVENT
UID:6617@lagueulenoire.org
DTSTART:20200304T170000Z
DTEND:20200309T235900Z
DTSTAMP:20200219T114705Z
URL:https://www.lagueulenoire.org/events/3-poils-dans-la-soupe/
SUMMARY:3 POILS DANS LA SOUPE
DESCRIPTION:\nDU 04 au 09 MARS :\n\nDu 4 au 9 mars 2020 à Saint-Étienne a
 ura lieu la troisième édition du festival « Un Poil dans la Soupe » or
 ganisée par les Sampianes\, autour du 8 mars : Journée internationale de
 s luttes des femmes. Au menu : des activités féministes variées dans di
 fférents lieux de Sainté pour se rencontrer\, échanger\, apprendre\, se
  renforcer\, créer des solidarités et se marrer.\n\nL’idée c’est de
  mettre un gros poil – voire une touffe ! – dans la soupe de notre soc
 iété qui cherche à transformer cette journée de solidarité féministe
  en un ramassis d’injonctions sexistes\, consuméristes et cis- hétéro
 normatives.\n\n\n☽ PROGRAMME ☾\n\n&gt\; ATTENTION: Les activités avec
  des * sont en mixité choisie : meufs-gouines-trans (sans mec cis).\n\n\n
 A la Gueule Noire aura lieu:\n\n\n▶ Jeudi 5 Mars ◀\n\n⦿ 17h30 *ATELI
 ER D’AUTODÉFENSE FÉMINISTE* (1h30)\n\nPour se renforcer au niveau indi
 viduel et collectif avec différentes techniques et stratégies d’autod
 éfense\, verbale et physique.\nTenue confortable\, aucune condition physi
 que particulière n’est requise. Tous les corps sont bienvenus.\n\n⦿ 2
 0h *THÉÂTRE PERFORMANCE "MON(S)TRE-TOI" + discussion collective*\n\n"C
 ’est l’histoire d’une créature qui va grandir et tenter de devenir 
 une femme. Influencé par la maxime du chimiste et philosophe Antoine Lavo
 isier « Rien ne se perd\, rien ne se crée\, tout se transforme » et la 
 célèbre réplique extraite du film X-Men l’Origine\, adapté des comic
 s de Marvel « Les mutations : c’est la clé de notre évolution »\, le
  spectacle est une déambulation dans un espace imaginaire étrange entre 
 l’enfance\, le rêve et la réalité."\n\nPlus d'info: https://www.faceb
 ook.com/MonStreToi/ &amp\; https://carolinemalandran.book.fr/\n\nBouffe à
  prix libre sur place.\n\n\n▶ Vendredi 6 Mars ◀\n\n⦿ 20h30 MAXI FIES
 TA AU POIL !\n\n✶ Flo Mekouyenski (Sainté): Chanson (f)rance-aise\, cha
 nson acide\, An-arco Sylvestre\nhttp://mekouy.dawaband.net/index.php?page=
 actu\n\n✶ Safyr Sfer (Ile de fRance): Rap\nhttps://www.facebook.com/safy
 rsferlouve/\n\n✶ Jean-Michel Jarret (Valence): Riot Wave\nhttps://swap-m
 usic.com/artiste/jean-michel-jarret/\n\n✶  DJ Boom collective (ramène 
 ta clé usb)\n\n\n\n▶ Dimanche 8 Mars ◀\n\n⦿ 16h-17h30 *AÉROBIC*\nC
 ours de danse cardio (de l'aérobic avec de la danse) avec des mouvements 
 inspirés du hip hop\, du dancehall\, de la samba… mais aussi de mouveme
 nts habituels d’aérobic. Le contenu est largement inspiré de vidéos y
 outube de danse cardio\, mais vidé (au mieux) du contenu oppressif (bodys
 haming\, grossophobie…). C’est plutôt à destination de personnes qui
  aiment danser/bouger/transpirer sans avoir l’impression d’être à l
 ’usine\, sans qu’on leur dise de maigrir\, et qui n’ont pas forcéme
 nt envie d’être super à cheval sur l’exactitude et la performance.\n
 A partir de 13 ans (négociable si besoin)\n\nATTENTION nombre de places l
 imitées: si tu veux participer\, envoi un mail à sampianes@riseup.net\n\
 n+ Goûter partagé (chacune ramène un petit quelque chose selon ses moye
 ns et envies)\n\n\n\n⦿ 18h30 *JUST DANCE COLLECTIF*\nMême principe que 
 le  karaoké sauf qu'au lieu d'être attentive aux paroles des chansons q
 ui défilent sur l'écran\, ce sont les mouvements de danse qu'il faut sui
 vre !  Bref\, de quoi finir en beauté ce dimanche !\n\n\n&gt\; Toutes le
 s activités sont à prix libre + adhésion prix libre à la Gueule Noire\
 n\n&gt\; Possibilité de garde d’enfants\, écrire à : sampianes@riseup
 .net\n\n&gt\; Pour lire le reste du programme ou nous contacter:\n-voir : 
 https://www.facebook.com/events/823562108122965/?active_tab=about\n-voir :
  http://lenumerozero.lautre.net/\n-sampianes@riseup.net "\n\n\n\n&nbsp\;
CATEGORIES:Atelier,Boum,Concert,Conférence / Débat,En
 Avant,Repas,Spectacle,Sport
END:VEVENT
END:VCALENDAR